BEGIN:VCALENDAR
PRODID:-//eluceo/ical//2.0/EN
VERSION:2.0
CALSCALE:GREGORIAN
BEGIN:VEVENT
UID:993c1196892f656d5924c6851fea3f05
DTSTAMP:20260422T095407Z
SUMMARY:Free PJ Library Playdates at The Hebrew Academy
DESCRIPTION:Jewish Federation in the Heart of New Jersey\nEvents\nhttps://j
 ewishheartnj.org/events/free-pj-library-playdates-at-the-hebrew-academy-16
 62988569\n\nPJ Stories\, Snacks\, Songs\, and More! RSVP Required to Linda
  Glickstein\, 732-431-5525 or linda@thanj.org
DTSTART;TZID=America/New_York:20220914T103000
DTEND;TZID=America/New_York:20220914T123000
END:VEVENT
END:VCALENDAR
