BEGIN:VCALENDAR
PRODID:-//eluceo/ical//2.0/EN
VERSION:2.0
CALSCALE:GREGORIAN
BEGIN:VEVENT
UID:8763e44022ed1329f4208b15a6db9604
DTSTAMP:20260422T122700Z
SUMMARY:Free PJ Library Mommy & Me Toddler  & Baby Classes
DESCRIPTION:Jewish Federation in the Heart of New Jersey\nEvents\nhttps://j
 ewishheartnj.org/events/free-pj-library-mommy--me-toddler---baby-classes-1
 694109651\n\nFree PJ Library Play Dates! Unlimited fun at The Hebrew Acade
 my for toddlers and babies on alternating Wednesdays and Fridays.\nMommies
 \, daddies\, bubbies\, zaides\, grandmas and caregivers are all welcome to
  join!\n\nFree and open to the community\, however\, RSVP required.
DTSTART;TZID=America/New_York:20230913T103000
DTEND;TZID=America/New_York:20230913T111500
END:VEVENT
END:VCALENDAR
