BEGIN:VCALENDAR
PRODID:-//eluceo/ical//2.0/EN
VERSION:2.0
CALSCALE:GREGORIAN
BEGIN:VEVENT
UID:0b319683ec220b50d7074731e68abec1
DTSTAMP:20260426T040204Z
SUMMARY:Film: The Land was Theirs: Jewish Farmers in the Garden State
DESCRIPTION:Jewish Federation in the Heart of New Jersey\nEvents\nhttps://j
 ewishheartnj.org/events/film-the-land-was-theirs-jewish-farmers-in-the-gar
 den-state-1655130754\n\nThe film\, The Land Was Theirs: Jewish Farmers in 
 the Garden State is based on the 1992 book by the late Gertrude Wishnick D
 ubrovsky which aired as a PBS documentary in 1993. The film is an absorbin
 g documentary about Farmingdale\, New Jersey\, one of many Jewish farming 
 communities in the United States established with the help of the Jewish A
 gricultural Society.\nAdmission Price: Free of Charge\, Donation appreciat
 ed - Presented by the Jewish Heritage Museum of Monmouth County -  http:/
 /www.jh...
DTSTART;TZID=America/New_York:20220713T190000
DTEND;TZID=America/New_York:20220713T200000
END:VEVENT
END:VCALENDAR
