BEGIN:VCALENDAR
PRODID:-//eluceo/ical//2.0/EN
VERSION:2.0
CALSCALE:GREGORIAN
BEGIN:VEVENT
UID:5a29a4c8b6a13f50454333ec769432ff
DTSTAMP:20260422T234139Z
SUMMARY:Federation's Super Sunday Call-out!
DESCRIPTION:Jewish Federation in the Heart of New Jersey\nEvents\nhttps://j
 ewishheartnj.org/events/federations-super-sunday-call-out-1678991179\n\nTh
 e Jewish Federation in the Heart of New Jersey 's Super Sunday Call-out Da
 y for the 2023 Community Campaign.
DTSTART;TZID=America/New_York:20230521T090000
DTEND;TZID=America/New_York:20230521T143000
END:VEVENT
END:VCALENDAR
