BEGIN:VCALENDAR
PRODID:-//eluceo/ical//2.0/EN
VERSION:2.0
CALSCALE:GREGORIAN
BEGIN:VEVENT
UID:6f582c7047faadfcb68001eb171d5d78
DTSTAMP:20260426T032140Z
SUMMARY:Father\, Abba\, Tatti Circle: L’Dor V’Dor
DESCRIPTION:Jewish Federation in the Heart of New Jersey\nEvents\nhttps://j
 ewishheartnj.org/events/father-abba-tatti-circle-ldor-vdor-1653657317\n\nJ
 oin Rabbi Getzel and other dads for a feminist and anti-racist exploration
  of what it means to raise young children today. This cycle we will be foc
 using on our relationships with our families of origin—going deep on how
  we choose what to replicate and what not from our own upbringing. Through
  a combination of reflection on modern and ancient Jewish wisdom\, self-re
 flection\, and a good amount of group process\, fathers will explore toget
 her questions of identity and spirituality. By the end...
DTSTART;TZID=America/New_York:20220612T200000
DTEND;TZID=America/New_York:20220612T213000
END:VEVENT
END:VCALENDAR
