BEGIN:VCALENDAR
PRODID:-//eluceo/ical//2.0/EN
VERSION:2.0
CALSCALE:GREGORIAN
BEGIN:VEVENT
UID:f2e5df5399fbebaec3f63aea1d7a38c1
DTSTAMP:20260425T153638Z
SUMMARY:Fall Festival To Help End Hunger
DESCRIPTION:Jewish Federation in the Heart of New Jersey\nEvents\nhttps://j
 ewishheartnj.org/events/fall-festival-to-help-end-hunger-1664383376\n\nCel
 ebrate fall and learn about food insecurity and what the holiday of Sukkot
  teaches us about helping to feed those in need. Games\, relay races and a
 rts and crafts for children of all ages! A panel discussion with speakers 
 form REPLENISH\, First Presbyterian Church Food Pantry\, MAZON and Temple 
 Emanu-El. This free event is open to the whole community. Please consider 
 bringing a non-perishable food item to donate to the food pantry.\n\nLocat
 ion:  Old Franklin Schoolhouse in Metuchen\, 491 Midd...
DTSTART;TZID=America/New_York:20221009T130000
DTEND;TZID=America/New_York:20221009T160000
END:VEVENT
END:VCALENDAR
