BEGIN:VCALENDAR
PRODID:-//eluceo/ical//2.0/EN
VERSION:2.0
CALSCALE:GREGORIAN
BEGIN:VEVENT
UID:a72c3b4bf555e847b81c26525c383cf7
DTSTAMP:20260422T203348Z
SUMMARY:Facing West:  The True Story of One Family's Journey from India to 
 Israel
DESCRIPTION:Jewish Federation in the Heart of New Jersey\nEvents\nhttps://j
 ewishheartnj.org/events/facing-west--the-true-story-of-one-familys-journey
 -from-india-to-israel-1678304426\n\nPresenter: Author\, singer\, and educa
 tor Rahel Musleah. Ms. Musleah shares the true story of her aunt and uncle
  who made aliyah to Palestine from Calcutta in 1945 and lived through the 
 establishment of the State of Israel.
DTSTART;TZID=America/New_York:20230425T133000
DTEND;TZID=America/New_York:20230425T153000
END:VEVENT
END:VCALENDAR
