BEGIN:VCALENDAR
PRODID:-//eluceo/ical//2.0/EN
VERSION:2.0
CALSCALE:GREGORIAN
BEGIN:VEVENT
UID:de9e8e3c17b1f7d2327de8806575e6c8
DTSTAMP:20260424T090910Z
SUMMARY:Extremism on a National and State Level - A Zoom Program
DESCRIPTION:Jewish Federation in the Heart of New Jersey\nEvents\nhttps://j
 ewishheartnj.org/events/extremism-on-a-national-and-state-level---a-zoom-p
 rogram-1671716907\n\nCongregation Torat El and the Anti-Defamation League 
 Present: Extremism on a National and State Level (A Zoom Program)\n\nAlex 
 Friedfeld is an Investigative Researcher with the ADL&#39\;s Center on Ext
 remism where he monitors anti-government extremism\, Islamic extremism\, a
 nd white supremacist activity. Prior to joining the ADL\, he worked as an 
 analyst in the New York Police Department&#39\;s counterterrorism and inte
 lligence bureaus where he monitored terrorist activity around the world an
 d ran terrori...
DTSTART;TZID=America/New_York:20230131T194500
DTEND;TZID=America/New_York:20230131T204500
END:VEVENT
END:VCALENDAR
