BEGIN:VCALENDAR
PRODID:-//eluceo/ical//2.0/EN
VERSION:2.0
CALSCALE:GREGORIAN
BEGIN:VEVENT
UID:816acf1ba1603d343b36d62003cbe866
DTSTAMP:20260424T131807Z
SUMMARY:Eat\, Pray\, Oy Vey!  BBQ
DESCRIPTION:Jewish Federation in the Heart of New Jersey\nEvents\nhttps://j
 ewishheartnj.org/events/eat-pray-oy-vey--bbq-1684248953\n\nJoin us for our
  Summer Barbecue! Shabbat Service at 7:15 PM\n\nNon-Members: $8 per person
 \n\nBarbecue will be Outside (Weather Permitting)\n\nYou MUST RSVP to the 
 Synagogue Office by Friday\, June 2nd.
DTSTART;TZID=America/New_York:20230609T180000
DTEND;TZID=America/New_York:20230609T200000
END:VEVENT
END:VCALENDAR
