BEGIN:VCALENDAR
PRODID:-//eluceo/ical//2.0/EN
VERSION:2.0
CALSCALE:GREGORIAN
BEGIN:VEVENT
UID:d2e2421e49011557916d3271bb2a7c95
DTSTAMP:20260426T041833Z
SUMMARY:Dueling Pianos Dinner Show Presented by JCC Middlesex Cty & MENCH H
 adassah
DESCRIPTION:Jewish Federation in the Heart of New Jersey\nEvents\nhttps://j
 ewishheartnj.org/events/dueling-pianos-dinner-show-presented-by-jcc-middle
 sex-cty--mench-hadassah-1659376100\n\nThe JCC of Middlesex County & the ME
 NCH Chapter of Hadassah bring you a Dueling Pianos Show and Dinner from De
 li King of Clark. Saturday November 19\, 2022 @ 6:30pm at the JCC of Middl
 esex County located at 1775 Oak Tree Road in Edison. The Flying Ivories Du
 eling Pianos Show is part music\, part comedy and all fun. The Flying Ivor
 ies belt out an all request piano show that features the most sought-after
  performers hailing from Broadway to Vegas. Early Bird Price (by 11/3) is 
 $50/pp. General Adm...
DTSTART;TZID=America/New_York:20221119T183000
DTEND;TZID=America/New_York:20221119T213000
END:VEVENT
END:VCALENDAR
