BEGIN:VCALENDAR
PRODID:-//eluceo/ical//2.0/EN
VERSION:2.0
CALSCALE:GREGORIAN
BEGIN:VEVENT
UID:70be614ff138c149a2da7778c5bca4d1
DTSTAMP:20260426T000746Z
SUMMARY:Dreaming with Rebbe Nachman (6 sessions)
DESCRIPTION:Jewish Federation in the Heart of New Jersey\nEvents\nhttps://j
 ewishheartnj.org/events/dreaming-with-rebbe-nachman-6-sessions-1664724483\
 n\nCome and dream along with Rebbe Nachman of Breslev and discover Rebbe N
 achman’s most famous story “The Seven Beggars”. Rebbe Nachman would 
 tell amazing stories\, almost fairytale-like in their construction\, fille
 d with the most esoteric Kabbalistic symbolism. These stories mirrored his
  personal dreams and often can reflect our own. He was explicit that his s
 tories were designed to arouse us all from our spiritual slumber and conne
 ct us on an almost pre-intellectual level to the Divine....
DTSTART;TZID=America/New_York:20221027T200000
DTEND;TZID=America/New_York:20221027T213000
END:VEVENT
END:VCALENDAR
