BEGIN:VCALENDAR
PRODID:-//eluceo/ical//2.0/EN
VERSION:2.0
CALSCALE:GREGORIAN
BEGIN:VEVENT
UID:8fc0ec167af16253d862d17c29eeb1db
DTSTAMP:20260423T124453Z
SUMMARY:Dramatic Megilah Reading
DESCRIPTION:Jewish Federation in the Heart of New Jersey\nEvents\nhttps://j
 ewishheartnj.org/events/dramatic-megilah-reading-1677093969\n\nDramatic Me
 gilah Reading at Congreation Agudath Achim\nFollowed by Refreshments and K
 omedy with Rabbit Kelman\nFree Event
DTSTART;TZID=America/New_York:20230306T183000
DTEND;TZID=America/New_York:20230306T193000
END:VEVENT
END:VCALENDAR
