BEGIN:VCALENDAR
PRODID:-//eluceo/ical//2.0/EN
VERSION:2.0
CALSCALE:GREGORIAN
BEGIN:VEVENT
UID:b7d2ac6b696dfc09e1e15568c2bbfe9f
DTSTAMP:20260424T030948Z
SUMMARY:Donor Appreciation at Two River Theater
DESCRIPTION:Jewish Federation in the Heart of New Jersey\nEvents\nhttps://j
 ewishheartnj.org/events/donor-appreciation-at-two-river-theater-1675809003
 \n\nDonor Appreciation Night at Two River Theater featuring the 8:00pm per
 formance of Romeo and Juliet.  The show will be preceded at 6:00pm by a bu
 ffet dinner and a special recognition to those who so generously support o
 ur community in the heart of New Jersey.
DTSTART;TZID=America/New_York:20230420T180000
DTEND;TZID=America/New_York:20230420T213000
END:VEVENT
END:VCALENDAR
