BEGIN:VCALENDAR
PRODID:-//eluceo/ical//2.0/EN
VERSION:2.0
CALSCALE:GREGORIAN
BEGIN:VEVENT
UID:d73cc8b19edea5c14e5d588a672a2b51
DTSTAMP:20260419T154218Z
SUMMARY:Documentary: How Saba Kept Singing. Followed by Brief Performance
DESCRIPTION:Jewish Federation in the Heart of New Jersey\nEvents\nhttps://j
 ewishheartnj.org/events/documentary-how-saba-kept-singing-followed-by-brie
 f-performance-1693415370\n\nThe Award-Winning Documentary Film\, &#39\;How
  Saba Kept Singing\,&#39\; shares the story of Cantor\, Holocaust Survivor
 \, and Military Veteran\, David S. Wisnia (93)\, who spends his later year
 s traveling with his grandson and musical accompanist\, Avi Wisnia (38)\, 
 sharing the story of how he survived the Holocaust through music which the
  duo perform together. An uplifting story about music\, faith\, family and
  resilience\, proving love can grow and take hold in even the darkest of p
 laces. David&#39\;s story has bee...
DTSTART;TZID=America/New_York:20231015T130000
DTEND;TZID=America/New_York:20231015T150000
END:VEVENT
END:VCALENDAR
