BEGIN:VCALENDAR
PRODID:-//eluceo/ical//2.0/EN
VERSION:2.0
CALSCALE:GREGORIAN
BEGIN:VEVENT
UID:d6aba5f4932038bebf9f87925661c233
DTSTAMP:20260424T010615Z
SUMMARY:Dinner and Comedy Night at Congregation Torat El
DESCRIPTION:Jewish Federation in the Heart of New Jersey\nEvents\nhttps://j
 ewishheartnj.org/events/dinner-and-comedy-night-at-congregation-torat-el-1
 671717573\n\nIn Celebration of Purim\, Congregation Torat El Presents: Din
 ner and Comedy Night\n\nAuthentic Delicatessen Experience\nBYOB\nLots of L
 aughs!\n\n$72 per person\nReservations due by February 22\, 2023 at:  com
 edy.torat-el.org\nComing with friends? Reserve a table (8-12 people)
DTSTART;TZID=America/New_York:20230304T190000
DTEND;TZID=America/New_York:20230304T223000
END:VEVENT
END:VCALENDAR
