BEGIN:VCALENDAR
PRODID:-//eluceo/ical//2.0/EN
VERSION:2.0
CALSCALE:GREGORIAN
BEGIN:VEVENT
UID:481c9bae5c111f0f803f8d99595bf805
DTSTAMP:20260426T032813Z
SUMMARY:DC's Reflecting Fools
DESCRIPTION:Jewish Federation in the Heart of New Jersey\nEvents\nhttps://j
 ewishheartnj.org/events/dcs-reflecting-fools-1660950134\n\nPlease don’t 
 storm the Capitol Steps! The stairway to heavenly political satire origina
 lly laid by the Capitol Steps continues upward with DC’s Reflecting Fool
 s—the new musical parody group created by the performers and co-writer f
 rom the Capitol Steps.
DTSTART;TZID=America/New_York:20220918T140000
DTEND;TZID=America/New_York:20220918T160000
END:VEVENT
END:VCALENDAR
