BEGIN:VCALENDAR
PRODID:-//eluceo/ical//2.0/EN
VERSION:2.0
CALSCALE:GREGORIAN
BEGIN:VEVENT
UID:537637d0ab5d12191dc7ae6063530891
DTSTAMP:20260423T083713Z
SUMMARY:Current Issues in Israel and the Middle East
DESCRIPTION:Jewish Federation in the Heart of New Jersey\nEvents\nhttps://j
 ewishheartnj.org/events/current-issues-in-israel-and-the-middle-east-16783
 03239\n\nThe Jewish Community Center of Middlesex County Celebrates Israel
  @ 75. "Current Issues in Israel and the Middle East". Presenter: Syndicat
 ed columnist Micah Halpern.
DTSTART;TZID=America/New_York:20230423T110000
DTEND;TZID=America/New_York:20230423T130000
END:VEVENT
END:VCALENDAR
