BEGIN:VCALENDAR
PRODID:-//eluceo/ical//2.0/EN
VERSION:2.0
CALSCALE:GREGORIAN
BEGIN:VEVENT
UID:ab4676fb32c9232ce90207d72b150c71
DTSTAMP:20260426T030013Z
SUMMARY:Congregation Etz Chaim Monroe Twp Jewish Center - Passover Seder
DESCRIPTION:Jewish Federation in the Heart of New Jersey\nEvents\nhttps://j
 ewishheartnj.org/events/congregation-etz-chaim-monroe-twp-jewish-center---
 passover-seder-1679016244\n\n2nd night seder hosted at Congregation Etz Ch
 aim Monroe Twp Jewish Center
DTSTART;TZID=America/New_York:20230406T183000
DTEND;TZID=America/New_York:20230406T210000
END:VEVENT
END:VCALENDAR
