BEGIN:VCALENDAR
PRODID:-//eluceo/ical//2.0/EN
VERSION:2.0
CALSCALE:GREGORIAN
BEGIN:VEVENT
UID:c378d928ab83dac9f92deb557433dc7f
DTSTAMP:20260426T035525Z
SUMMARY:Congregation Etz Chaim - Chanukah Service with Music and Dinner
DESCRIPTION:Jewish Federation in the Heart of New Jersey\nEvents\nhttps://j
 ewishheartnj.org/events/congregation-etz-chaim---chanukah-service-with-mus
 ic-and-dinner-1669999895\n\nCelebrate the Festival of Lights\nSing along w
 ith Avi Wisnia\nDinner to Follow
DTSTART;TZID=America/New_York:20221223T183000
DTEND;TZID=America/New_York:20221223T210000
END:VEVENT
END:VCALENDAR
