BEGIN:VCALENDAR
PRODID:-//eluceo/ical//2.0/EN
VERSION:2.0
CALSCALE:GREGORIAN
BEGIN:VEVENT
UID:85356724c0ee1299aa1e609cb3888bbd
DTSTAMP:20260423T013928Z
SUMMARY:Congregation B'nai Tikvah's Purim Palooza
DESCRIPTION:Jewish Federation in the Heart of New Jersey\nEvents\nhttps://j
 ewishheartnj.org/events/congregation-bnai-tikvahs-purim-palooza-1675962503
 \n\nCongregation B’nai Tikvah celebrates Purim as a community with our P
 urim Palooza and Magic Show\nby award-winning magician\, Chad Juros.\n\nTh
 e events of the day are as follows:\n11:00am:\nPurim costume parade for ad
 ults and children of all ages\, followed immediately by a Dr. Seuss inspir
 ed Purim play performed by parents of our little peanuts (known as our rel
 igious school students)\n11:30am -1:30pm:\nPurim Carnival including: haman
 tashen bake\, bounce house\, games\, arts & crafts\, face paint...
DTSTART;TZID=America/New_York:20230305T110000
DTEND;TZID=America/New_York:20230305T153000
END:VEVENT
END:VCALENDAR
