BEGIN:VCALENDAR
PRODID:-//eluceo/ical//2.0/EN
VERSION:2.0
CALSCALE:GREGORIAN
BEGIN:VEVENT
UID:8340ae6706df8bbdbcb816c30ebdc2c0
DTSTAMP:20260422T235630Z
SUMMARY:Concert by the IDF Musical Ensemble
DESCRIPTION:Jewish Federation in the Heart of New Jersey\nEvents\nhttps://j
 ewishheartnj.org/events/concert-by-the-idf-musical-ensemble-1682022003\n\n
 Celebrate Israel @ 75 at the JCC of Middlesex County by joining us for An 
 Evening of Solidarity with the IDF Soldiers featuring a Concert by the IDF
  Musical Ensemble. Founded in 1948\, the IDF Musical Ensemble is a group o
 f young soldiers using their service to spread joy and encouragement aroun
 d the world through song and music.\n\nDate and time: Monday May 22\, 2023
  @ 7pm. Location: JCC of Middlesex County\; 1775 Oak Tree Road in Edison. 
 Admission: $18 admits one to concert. $118 admits two to...
DTSTART;TZID=America/New_York:20230522T190000
DTEND;TZID=America/New_York:20230522T210000
END:VEVENT
END:VCALENDAR
