BEGIN:VCALENDAR
PRODID:-//eluceo/ical//2.0/EN
VERSION:2.0
CALSCALE:GREGORIAN
BEGIN:VEVENT
UID:6f79baebf4a499a1eb6fd5f248490b2d
DTSTAMP:20260420T175053Z
SUMMARY:Community Yizkor
DESCRIPTION:Jewish Federation in the Heart of New Jersey\nEvents\nhttps://j
 ewishheartnj.org/events/community-yizkor-1694791111\n\nAlthough our holida
 y services are for temple members only\, we feel it&#39\;s important to op
 en our doors to all who need to say Kaddish. Join us for Community Yizkor 
 Services. Please bring photo ID with you.\nL&#39\;Shanah Tovah.
DTSTART;TZID=America/New_York:20230925T143000
DTEND;TZID=America/New_York:20230925T153000
END:VEVENT
END:VCALENDAR
