BEGIN:VCALENDAR
PRODID:-//eluceo/ical//2.0/EN
VERSION:2.0
CALSCALE:GREGORIAN
BEGIN:VEVENT
UID:774daef46b82fe23b27b73771befd62e
DTSTAMP:20260424T074832Z
SUMMARY:Comfy and Cozy Shabbat! Friday Night Services Followed by Dinner!
DESCRIPTION:Jewish Federation in the Heart of New Jersey\nEvents\nhttps://j
 ewishheartnj.org/events/comfy-and-cozy-shabbat-friday-night-services-follo
 wed-by-dinner-1671649397\n\nJoin Congregation B&#39\;nai Israel for our ne
 w monthly program with fun all inclusive Shabbat Services followed by a di
 nner for all to attend.\n\nOn Friday\, January 6th at 5:30 pm our Service 
 will begin immediately followed by dinner. This month we will be celebrati
 ng January anniversaries and birthdays with a winter\, comfy and cozy them
 ed dinner all are invited. RSVP required.\n\nRegistration is required! Adu
 lts $18\, children 13 and up $10 and children under 13 are at no cost. Ple
 ase contact Tar...
DTSTART;TZID=America/New_York:20230106T173000
DTEND;TZID=America/New_York:20230106T193000
END:VEVENT
END:VCALENDAR
