BEGIN:VCALENDAR
PRODID:-//eluceo/ical//2.0/EN
VERSION:2.0
CALSCALE:GREGORIAN
BEGIN:VEVENT
UID:48fcc74b35657238b3e157b2ecd6f99c
DTSTAMP:20260420T035649Z
SUMMARY:COMEDY NIGHT AT TEMPLE BETH MIRIAM WITH RABBI BOB ALPER
DESCRIPTION:Jewish Federation in the Heart of New Jersey\nEvents\nhttps://j
 ewishheartnj.org/events/comedy-night-at-temple-beth-miriam-with-rabbi-bob-
 alper-1692713518\n\nJOIN US FOR A NIGHT OF COMEDY (AGES 11 AND UP) WITH RA
 BBI BOB ALPER. TICKETS AVAILABLE FROM https://templebethmiriam.shulcloud.c
 om/event/comedy-night-with-bob-alpert.html. TICKETS BOUGHT ONLINE WILL REC
 EIVE ONE FREE DRINK.  TICKETS ALSO AVAILABLE AT THE DOOR.
DTSTART;TZID=America/New_York:20231014T190000
DTEND;TZID=America/New_York:20231014T210000
END:VEVENT
END:VCALENDAR
