BEGIN:VCALENDAR
PRODID:-//eluceo/ical//2.0/EN
VERSION:2.0
CALSCALE:GREGORIAN
BEGIN:VEVENT
UID:b8fe991bb98fc2b938a5b69be7028bba
DTSTAMP:20260423T065958Z
SUMMARY:Combined Concert to Aid Turkey & Syrian Earthquake Relief
DESCRIPTION:Jewish Federation in the Heart of New Jersey\nEvents\nhttps://j
 ewishheartnj.org/events/combined-concert-to-aid-turkey--syrian-earthquake-
 relief-1678704266\n\nMakhelat Hamercaz Jewish Choir\, Edison Chinese Choir
 \, and JP Stevens High School Concert Choir will perform together in a con
 cert on Sunday\, March 19\, 2023 at 2:00pm at The Jewish Community Center 
 of Middlesex County\, 1775 Oak Tree Road\, Edison\, New Jersey.
DTSTART;TZID=America/New_York:20230319T140000
DTEND;TZID=America/New_York:20230319T160000
END:VEVENT
END:VCALENDAR
