BEGIN:VCALENDAR
PRODID:-//eluceo/ical//2.0/EN
VERSION:2.0
CALSCALE:GREGORIAN
BEGIN:VEVENT
UID:705faaeeafb3d40a8cde47799ed2c99f
DTSTAMP:20260425T151639Z
SUMMARY:Chanukah Festival and Vendor Fair
DESCRIPTION:Jewish Federation in the Heart of New Jersey\nEvents\nhttps://j
 ewishheartnj.org/events/chanukah-festival-and-vendor-fair-1663955567\n\nAd
 mission includes a fun afternoon with balloons\, crafts\, shopping at seve
 ral vendor tables\, delicious Chanukah snacks\, AND MORE!
DTSTART;TZID=America/New_York:20221204T130000
DTEND;TZID=America/New_York:20221204T160000
END:VEVENT
END:VCALENDAR
