BEGIN:VCALENDAR
PRODID:-//eluceo/ical//2.0/EN
VERSION:2.0
CALSCALE:GREGORIAN
BEGIN:VEVENT
UID:afd34188fe7f20c060b2f4777b5df3e6
DTSTAMP:20260419T170406Z
SUMMARY:Challah Bake for Israel
DESCRIPTION:Jewish Federation in the Heart of New Jersey\nEvents\nhttps://j
 ewishheartnj.org/events/challah-bake-for-israel-1710953005\n\nBake Challah
  for Israel\nLed by Michelle Weinfeld\n$10 suggested donation\nAll proceed
 s for Israel\nCongregation Agudath Achim\, Bradley Beach\n301 McCabe Ave
DTSTART;TZID=America/New_York:20240328T183000
DTEND;TZID=America/New_York:20240328T200000
END:VEVENT
END:VCALENDAR
