BEGIN:VCALENDAR
PRODID:-//eluceo/ical//2.0/EN
VERSION:2.0
CALSCALE:GREGORIAN
BEGIN:VEVENT
UID:924a69e1919aef715e375329834e98cb
DTSTAMP:20260426T034815Z
SUMMARY:Chabad House at Rutgers 44th National Founders Anniversary Dinner
DESCRIPTION:Jewish Federation in the Heart of New Jersey\nEvents\nhttps://j
 ewishheartnj.org/events/chabad-house-at-rutgers-44th-national-founders-ann
 iversary-dinner-1668703885\n\nIn the spirit of rejoicing and celebration\,
  Chabad House Jewish Student Center at Rutgers University and its ten affi
 liate Chabad Houses serving central and southern New Jersey will celebrate
  their 44th  National Founders Anniversary Dinner at the Grand Ballroom of
  Chabad House\, 170 College Avenue\, New Brunswick\, NJ\, on Tuesday\, Dec
 ember 6\, 2022\, at 6:00 PM.  More than 600 community leaders and supporte
 rs are expected to pay tribute to the legacy of  Mr. Edward Mosberg\, with
  the dedication...
DTSTART;TZID=America/New_York:20221206T180000
DTEND;TZID=America/New_York:20221206T220000
END:VEVENT
END:VCALENDAR
