BEGIN:VCALENDAR
PRODID:-//eluceo/ical//2.0/EN
VERSION:2.0
CALSCALE:GREGORIAN
BEGIN:VEVENT
UID:981c5cbe6dee2cee17dcb48b9f758cf0
DTSTAMP:20260425T181752Z
SUMMARY:Celebrating Dr. Martin Luther King
DESCRIPTION:Jewish Federation in the Heart of New Jersey\nEvents\nhttps://j
 ewishheartnj.org/events/celebrating-dr-martin-luther-king-1671644274\n\nCo
 ngregation B&#39\;nai Israel along with Rabbi Douglas Sagal welcomes Rever
 end Terrance Porter\, Senior Pastor at The Pilgrim Baptist Church in a joi
 nt service Honoring Dr. Martin Luther King on Friday\, January 13\, 2023 a
 t 7:30pm.\nFor more information please contact Tara.Siers@cbirumson.org.
DTSTART;TZID=America/New_York:20230113T193000
DTEND;TZID=America/New_York:20230113T213000
END:VEVENT
END:VCALENDAR
