BEGIN:VCALENDAR
PRODID:-//eluceo/ical//2.0/EN
VERSION:2.0
CALSCALE:GREGORIAN
BEGIN:VEVENT
UID:4206f128af094bfb6f8166b5aa67b8fc
DTSTAMP:20260423T014528Z
SUMMARY:Celebrate Israel's 75th Birthday With Temple Emanu-El!
DESCRIPTION:Jewish Federation in the Heart of New Jersey\nEvents\nhttps://j
 ewishheartnj.org/events/celebrate-israels-75th-birthday-with-temple-emanu-
 el-1681133440\n\nJoin us as we celebrate Israel&#39\;s 75th birthday with 
 dinner and Israeli dancing! This is event is open to people of all ages!
DTSTART;TZID=America/New_York:20230426T180000
DTEND;TZID=America/New_York:20230426T200000
END:VEVENT
END:VCALENDAR
