BEGIN:VCALENDAR
PRODID:-//eluceo/ical//2.0/EN
VERSION:2.0
CALSCALE:GREGORIAN
BEGIN:VEVENT
UID:d77ad17c55859d64a6f89f0cbb97a369
DTSTAMP:20260424T233437Z
SUMMARY:Celebrate Israel Parade
DESCRIPTION:Jewish Federation in the Heart of New Jersey\nEvents\nhttps://j
 ewishheartnj.org/events/celebrate-israel-parade-1669149574\n\nMarch down 5
 th Avenue in NYC to celebrate Israel's 75th anniversary
DTSTART;TZID=America/New_York:20230604T100000
DTEND;TZID=America/New_York:20230604T160000
END:VEVENT
END:VCALENDAR
