BEGIN:VCALENDAR
PRODID:-//eluceo/ical//2.0/EN
VERSION:2.0
CALSCALE:GREGORIAN
BEGIN:VEVENT
UID:2c5daf4b0fc6a9bd250332872154382a
DTSTAMP:20260425T133413Z
SUMMARY:Celebrate Israel at 75!
DESCRIPTION:Jewish Federation in the Heart of New Jersey\nEvents\nhttps://j
 ewishheartnj.org/events/celebrate-israel-at-75-1678986537\n\nTemple Beth A
 hm in Aberdeen is having a special Celebrate Israel (Yom Ha&#39\;atzmaut) 
 Shabbat service with speaker and a luncheon in honor of Israel&#39\;s 75th
  birthday. The luncheon will include Sephardic and Ashkenazi foods. This e
 vent is $18 and open to the public\; however\, reservations are required. 
 To reserve\, please call the synagogue office at (732) 583-1700.
DTSTART;TZID=America/New_York:20230429T000000
DTEND;TZID=America/New_York:20230429T000000
END:VEVENT
END:VCALENDAR
