BEGIN:VCALENDAR
PRODID:-//eluceo/ical//2.0/EN
VERSION:2.0
CALSCALE:GREGORIAN
BEGIN:VEVENT
UID:912195eca28d8de98c8368b624df64aa
DTSTAMP:20260425T232710Z
SUMMARY:Celebrate Chanukah at the Metuchen Menorah Lighting Ceremony!
DESCRIPTION:Jewish Federation in the Heart of New Jersey\nEvents\nhttps://j
 ewishheartnj.org/events/celebrate-chanukah-at-the-metuchen-menorah-lightin
 g-ceremony-1669736630\n\nJoin us at the Plaza in Metuchen as we celebrate 
 Chanukah! Donuts dreidels\, music and more! Fun for the whole family!\nPle
 ase bring a non-perishable food item to donate to a local food pantry.
DTSTART;TZID=America/New_York:20221218T163000
DTEND;TZID=America/New_York:20221218T180000
END:VEVENT
END:VCALENDAR
