BEGIN:VCALENDAR
PRODID:-//eluceo/ical//2.0/EN
VERSION:2.0
CALSCALE:GREGORIAN
BEGIN:VEVENT
UID:7120da79e34b78f8b0dbbf57af8ce384
DTSTAMP:20260424T021428Z
SUMMARY:Casino Night
DESCRIPTION:Jewish Federation in the Heart of New Jersey\nEvents\nhttps://j
 ewishheartnj.org/events/casino-night-1673281214\n\nAdvanced registration i
 s $125/person. The admission price includes food\, open bar\, table games\
 , (black jack\, roulette\, poker)\, and dessert buffet. Prizes will be awa
 rded. Register online: bit.ly/THA_Casino. \nFor additional information\, p
 lease contact the school at 732-431-5525. Come decked in your favorite Jer
 sey & Jeans for a fun evening!
DTSTART;TZID=America/New_York:20230204T190000
DTEND;TZID=America/New_York:20230204T230000
END:VEVENT
END:VCALENDAR
