BEGIN:VCALENDAR
PRODID:-//eluceo/ical//2.0/EN
VERSION:2.0
CALSCALE:GREGORIAN
BEGIN:VEVENT
UID:16475288fbd6be278d8523e751b7414c
DTSTAMP:20260424T033319Z
SUMMARY:"Can't We All Just Get Along?" -- A Dialogue with a Rabbi and a Pas
 tor
DESCRIPTION:Jewish Federation in the Heart of New Jersey\nEvents\nhttps://j
 ewishheartnj.org/events/cant-we-all-just-get-along----a-dialogue-with-a-ra
 bbi-and-a-pastor-1673543060\n\nIn Honor of Martin Luther King Day\nRace & 
 Religion -- "Can&#39\;t We All Just Get Along?"\nJoin us for a dialogue be
 tween Rabbi Maury Kelman (Agudath Achim of Bradley Beach) and Dr. Semaj Va
 nzant Sr. (Pastor\, Encounter Christ Global Fellowship\nSaturday January 1
 4\, 2023\n9:15 AM Services\, followed by Kiddush\n12 PM - Dialogue\nLocati
 on: Agudath Achim\, 301 McCabe Ave.\, Bradley Beach
DTSTART;TZID=America/New_York:20230114T120000
DTEND;TZID=America/New_York:20230114T140000
END:VEVENT
END:VCALENDAR
