BEGIN:VCALENDAR
PRODID:-//eluceo/ical//2.0/EN
VERSION:2.0
CALSCALE:GREGORIAN
BEGIN:VEVENT
UID:89bfa0534a0fab8481644b5be4975b53
DTSTAMP:20260424T000700Z
SUMMARY:Can We Talk? What do you really know about antisemitism?
DESCRIPTION:Jewish Federation in the Heart of New Jersey\nEvents\nhttps://j
 ewishheartnj.org/events/can-we-talk\n\nWhat do you really know about antis
 emitism?\nA Panel Discussion Commemorating International Holocaust Remembr
 ance Day
DTSTART;TZID=America/New_York:20230126T183000
DTEND;TZID=America/New_York:20230126T203000
END:VEVENT
END:VCALENDAR
