BEGIN:VCALENDAR
PRODID:-//eluceo/ical//2.0/EN
VERSION:2.0
CALSCALE:GREGORIAN
BEGIN:VEVENT
UID:8747516b4592e894e2d875f603a40885
DTSTAMP:20260421T165128Z
SUMMARY:Book Sale November 19th
DESCRIPTION:Jewish Federation in the Heart of New Jersey\nEvents\nhttps://j
 ewishheartnj.org/events/book-sale-november-19th-1697399548\n\nBook Sale!  
 Love to Read? Have children that love to read? Get to our One Day Book Sal
 e for Thousands of items for all ages and interests at fantastic discounts
 ! tems of all kinds that are\noffered at deep discounts include :\n\n• B
 ooks - popular fiction\, mysteries\, historical romances\, reference\, sci
 ence\, health and medicine\, travel\, how-to\, cooking\, gardening and you
  name it — hardcover\, paperbacks\, and on CD.\n• Music CDs of all kin
 ds\,\n• DVDs & videos - hit movies for adults and...
DTSTART;TZID=America/New_York:20231119T113000
DTEND;TZID=America/New_York:20231119T163000
END:VEVENT
END:VCALENDAR
