BEGIN:VCALENDAR
PRODID:-//eluceo/ical//2.0/EN
VERSION:2.0
CALSCALE:GREGORIAN
BEGIN:VEVENT
UID:402c0d01f95b63b0e96fc4a449f99848
DTSTAMP:20260425T000146Z
SUMMARY:Book Burning Throughout History- Our Ignorance is Their Power
DESCRIPTION:Jewish Federation in the Heart of New Jersey\nEvents\nhttps://j
 ewishheartnj.org/events/book-burning-throughout-history--our-ignorance-is-
 their-power-1669666103\n\nRegistration required by 12pm on day of program 
 in order to receive Zoom information.
DTSTART;TZID=America/New_York:20230110T133000
DTEND;TZID=America/New_York:20230110T150000
END:VEVENT
END:VCALENDAR
