BEGIN:VCALENDAR
PRODID:-//eluceo/ical//2.0/EN
VERSION:2.0
CALSCALE:GREGORIAN
BEGIN:VEVENT
UID:50f4b6e72428be156170cbef8127302b
DTSTAMP:20260423T050833Z
SUMMARY:Book & Author: "Type-Cast" by Andrea J. Stein
DESCRIPTION:Jewish Federation in the Heart of New Jersey\nEvents\nhttps://j
 ewishheartnj.org/events/book-author-type-cast-by-andrea-j-stein\n\nJoin us
  for a conversation with author Andrea J. Stein about her debut novel.
DTSTART;TZID=America/New_York:20230327T190000
DTEND;TZID=America/New_York:20230327T213000
END:VEVENT
END:VCALENDAR
