BEGIN:VCALENDAR
PRODID:-//eluceo/ical//2.0/EN
VERSION:2.0
CALSCALE:GREGORIAN
BEGIN:VEVENT
UID:aaa2d3a281b263c95b86da325d65cf5f
DTSTAMP:20260424T033547Z
SUMMARY:Blood Drive at Temple  Shalom of Aberdeen
DESCRIPTION:Jewish Federation in the Heart of New Jersey\nEvents\nhttps://j
 ewishheartnj.org/events/blood-drive-at-temple--shalom-of-aberdeen-16704337
 68\n\nNational Blood Donor Month Blood Drive
DTSTART;TZID=America/New_York:20230109T123000
DTEND;TZID=America/New_York:20230109T183000
END:VEVENT
END:VCALENDAR
