BEGIN:VCALENDAR
PRODID:-//eluceo/ical//2.0/EN
VERSION:2.0
CALSCALE:GREGORIAN
BEGIN:VEVENT
UID:17aa52d8ee1fc8abdee1fa608f74f040
DTSTAMP:20260423T225958Z
SUMMARY:Blood Drive
DESCRIPTION:Jewish Federation in the Heart of New Jersey\nEvents\nhttps://j
 ewishheartnj.org/events/blood-drive-1671643534\n\nStart the New Year off b
 y helping replenish the blood supply! Please come donate blood at Congrega
 tion B&#39\;nai Israel&#39\;s Blood Drive on January 5\, 2023! Registratio
 n is requested but not required! Any question please email Tara.Siers@cbir
 umson.org.\n\nTo register\, please visit www.nybc.org Sponsor code is 7104
 5 or call 1-800-933-2566
DTSTART;TZID=America/New_York:20230105T120000
DTEND;TZID=America/New_York:20230105T180000
END:VEVENT
END:VCALENDAR
