BEGIN:VCALENDAR
PRODID:-//eluceo/ical//2.0/EN
VERSION:2.0
CALSCALE:GREGORIAN
BEGIN:VEVENT
UID:a516823aafcde18b0ea93e66bca5670e
DTSTAMP:20260420T075436Z
SUMMARY:Bites and Brews at the Source
DESCRIPTION:Jewish Federation in the Heart of New Jersey\nEvents\nhttps://j
 ewishheartnj.org/events/bites-and-brews-at-the-source-1690382647\n\nEnjoy 
 an evening with friends at the Source Farmhouse Brewery\, 300 Route 34\, C
 olts Neck\, NJ. Taste home brewed beers and snacks\, play some cornhole an
 d learn about your Jewish Federation in the Heart of New Jersey.\n\nCovert
  is $54/person. Advance registration is required. See you there!
DTSTART;TZID=America/New_York:20231026T193000
DTEND;TZID=America/New_York:20231026T213000
END:VEVENT
END:VCALENDAR
