BEGIN:VCALENDAR
PRODID:-//eluceo/ical//2.0/EN
VERSION:2.0
CALSCALE:GREGORIAN
BEGIN:VEVENT
UID:787b766789eb5617aa4119789a4dd5b1
DTSTAMP:20260425T000151Z
SUMMARY:Bikur Cholim "Visiting the Sick" with Rabbi Langer
DESCRIPTION:Jewish Federation in the Heart of New Jersey\nEvents\nhttps://j
 ewishheartnj.org/events/bikur-cholim-visiting-the-sick-with-rabbi-langer-1
 671638213\n\nJoin Rabbi Langer to learn more about this special Mitzvah.\n
 RSVP with the Synagogue Office by Wednesday\, January 18th.
DTSTART;TZID=America/New_York:20230122T100000
DTEND;TZID=America/New_York:20230122T120000
END:VEVENT
END:VCALENDAR
