BEGIN:VCALENDAR
PRODID:-//eluceo/ical//2.0/EN
VERSION:2.0
CALSCALE:GREGORIAN
BEGIN:VEVENT
UID:91936880e686a0a7d07a5be351c7ad89
DTSTAMP:20260422T194001Z
SUMMARY:Bikur Cholim Of Raritan Valley Annual Event
DESCRIPTION:Jewish Federation in the Heart of New Jersey\nEvents\nhttps://j
 ewishheartnj.org/events/bikur-cholim-of-raritan-valley-annual-event-169203
 6830\n\nBuffet dinner with entertainment
DTSTART;TZID=America/New_York:20231021T200000
DTEND;TZID=America/New_York:20231022T000000
END:VEVENT
END:VCALENDAR
