BEGIN:VCALENDAR
PRODID:-//eluceo/ical//2.0/EN
VERSION:2.0
CALSCALE:GREGORIAN
BEGIN:VEVENT
UID:50a469da01f17e90149b327996987183
DTSTAMP:20260426T041754Z
SUMMARY:Ben-Gurion Day in the USA
DESCRIPTION:Jewish Federation in the Heart of New Jersey\nEvents\nhttps://j
 ewishheartnj.org/events/ben-gurion-day-in-the-usa-1666703776\n\nFor the fi
 rst time ever\, Ben-Gurion Day will be celebrated in the USA. Led by Ameri
 cans for Ben-Gurion University\, the U.S. celebration of this Israeli nati
 onal holiday will culminate with a virtual experience honoring the life an
 d legacy of David Ben-Gurion. Join the inaugural celebration and see histo
 ry come to life with a tour of the new Ben-Gurion Archives and discover ho
 w the ideas of Israel’s founder have become a modern reality. Learn more
 : BenGurionDayUSA.org
DTSTART;TZID=America/New_York:20221130T120000
DTEND;TZID=America/New_York:20221130T130000
END:VEVENT
END:VCALENDAR
