BEGIN:VCALENDAR
PRODID:-//eluceo/ical//2.0/EN
VERSION:2.0
CALSCALE:GREGORIAN
BEGIN:VEVENT
UID:38ef088399df17ba6adb879952a8c506
DTSTAMP:20260426T000624Z
SUMMARY:Beach Service and BBQ
DESCRIPTION:Jewish Federation in the Heart of New Jersey\nEvents\nhttps://j
 ewishheartnj.org/events/beach-service-and-bbq-1652044330\n\nJoin Temple Be
 th Miriam for a beach service at the Breakwater Beach Club at 6:30 pm for 
 a musical and beautiful Shabbat service and then back to the temple for a 
 BBQ at 7:30 pm. Parking is available at the beach club. There is no charge
 . Call the temple at 732-222-3754 to make your reservation.
DTSTART;TZID=America/New_York:20220610T183000
DTEND;TZID=America/New_York:20220610T203000
END:VEVENT
END:VCALENDAR
