BEGIN:VCALENDAR
PRODID:-//eluceo/ical//2.0/EN
VERSION:2.0
CALSCALE:GREGORIAN
BEGIN:VEVENT
UID:b33c877d2ec01c02148ae431b9798d8e
DTSTAMP:20260426T002821Z
SUMMARY:Bagels and Blocks
DESCRIPTION:Jewish Federation in the Heart of New Jersey\nEvents\nhttps://j
 ewishheartnj.org/events/bagels-and-blocks-1711229273\n\nSunday 4/21 at 9:3
 0 am -11 am \nin the back room at the Social Hall \nMonmouth Reform Temple
  \n332 Hance Avenue \nTinton Falls\, NJ 07724 \n\nPlease let us know if yo
 u have any questions. Hope you can join with your littles ages 0-5.\n\nOur
  last date of the season is 5/19 so mark your calendar! \n\nIf you have qu
 estions you can contact\nKimberly Kahn 917-659-2101 (class\nParent) or Mag
 da Reyes Director of Education at (732) 747-9365.
DTSTART;TZID=America/New_York:20240421T093000
DTEND;TZID=America/New_York:20240421T110000
END:VEVENT
END:VCALENDAR
