BEGIN:VCALENDAR
PRODID:-//eluceo/ical//2.0/EN
VERSION:2.0
CALSCALE:GREGORIAN
BEGIN:VEVENT
UID:320ccf2e5a21912c63a75c4c3ba97f74
DTSTAMP:20260425T232135Z
SUMMARY:Bagels & Blocks Hanukah Celebration
DESCRIPTION:Jewish Federation in the Heart of New Jersey\nEvents\nhttps://j
 ewishheartnj.org/events/bagels--blocks-hanukah-celebration-1670381526\n\nB
 ring your child/children\, 4 and under-- for a Hanukah celebration. First 
 schmooze with other families of young children with bagels and a Hanukah p
 arty. Then join the rest of Monmouth Reform Temple for a temple wide celeb
 ration-- a talent show and flame fest.\nBring your singing voice and a men
 orah....for more information contact Magda Reyes at magda@monmouthreformte
 mple.org
DTSTART;TZID=America/New_York:20221218T093000
DTEND;TZID=America/New_York:20221218T113000
END:VEVENT
END:VCALENDAR
