BEGIN:VCALENDAR
PRODID:-//eluceo/ical//2.0/EN
VERSION:2.0
CALSCALE:GREGORIAN
BEGIN:VEVENT
UID:2b420e03866c2cec577d9340d9efa846
DTSTAMP:20260422T203353Z
SUMMARY:"Awake My People- Antisemitism and the Jewish Encounter with Modern
 ity"
DESCRIPTION:Jewish Federation in the Heart of New Jersey\nEvents\nhttps://j
 ewishheartnj.org/events/awake-my-people--antisemitism-and-the-jewish-encou
 nter-with-modernity-1680718380\n\nThis is the eighth part of the series "J
 ewish History form Biblical Times to the Present".\n\nThis will be present
 ed by Avinoam Patt\, who is the Doris  and Simon Konover Chair of Judaic S
 tudies\, and Director of the Center for Judaic Studies and Contemporary Je
 wish Life at the University of Connecticut.\n\nThis is a free Zoom event\,
  but you must register on the website:  ebjc.org and look in the right han
 d side of the page for the link to "Jewish History from Biblical Times to 
 the Present".
DTSTART;TZID=America/New_York:20230427T203000
DTEND;TZID=America/New_York:20230427T220000
END:VEVENT
END:VCALENDAR
