BEGIN:VCALENDAR
PRODID:-//eluceo/ical//2.0/EN
VERSION:2.0
CALSCALE:GREGORIAN
BEGIN:VEVENT
UID:a35a8b7e02a16829a45b6a36eaca3569
DTSTAMP:20260422T220552Z
SUMMARY:Author & Educator\, Miriam Dobin\, Holocaust Memoir Book Talk
DESCRIPTION:Jewish Federation in the Heart of New Jersey\nEvents\nhttps://j
 ewishheartnj.org/events/author--educator-miriam-dobin-holocaust-memoir-boo
 k-talk-1678995949\n\nMiriam's story traces the journey that her four paren
 ts took to get to America\, and details the challenges that arose for all 
 as four Holocaust survivors sought to raise a child in a new country.  It 
 is a tale of survival and faith despite terrible odds.
DTSTART;TZID=America/New_York:20230430T110000
DTEND;TZID=America/New_York:20230430T120000
END:VEVENT
END:VCALENDAR
